BEGIN:VCALENDAR
VERSION:2.0
PRODID:-//ChamberMaster//Event Calendar 2.0//EN
METHOD:PUBLISH
X-PUBLISHED-TTL:P3D
REFRESH-INTERVAL:P3D
CALSCALE:GREGORIAN
BEGIN:VEVENT
DTSTART;VALUE=DATE:20180520
DTEND;VALUE=DATE:20180521
TRANSP:TRANSPARENT
X-MICROSOFT-CDO-ALLDAYEVENT:TRUE
SUMMARY:Fish & Play
DESCRIPTION:Enjoy some golf and fishing. The best of both world's!
X-ALT-DESC;FMTTYPE=text/html:Enjoy some golf and fishing. The best of both world&#39\;s!
LOCATION:11240 Brownsbridge Road Covington\, GA 30014
UID:e.1627.6626
SEQUENCE:3
DTSTAMP:20260423T030922Z
URL:https://business.newtonchamber.com/events/details/fish-play-6626
END:VEVENT

END:VCALENDAR
