BEGIN:VCALENDAR
VERSION:2.0
PRODID:-//ChamberMaster//Event Calendar 2.0//EN
METHOD:PUBLISH
X-PUBLISHED-TTL:P3D
REFRESH-INTERVAL:P3D
CALSCALE:GREGORIAN
BEGIN:VEVENT
DTSTART;VALUE=DATE:20180617
DTEND;VALUE=DATE:20180618
TRANSP:TRANSPARENT
X-MICROSOFT-CDO-ALLDAYEVENT:TRUE
SUMMARY:Fish & Play
DESCRIPTION:Fish & Play from 2pm to 6pm\n\nFamily Grill Out that is included with the package from 6pm to 8pm.
X-ALT-DESC;FMTTYPE=text/html:Fish &amp\; Play from 2pm to 6pm<br />\nFamily Grill Out that is included with the package from 6pm to 8pm.
LOCATION:
UID:e.1627.6660
SEQUENCE:3
DTSTAMP:20260423T031120Z
URL:https://business.newtonchamber.com/events/details/fish-play-06-17-2018-6660
END:VEVENT

END:VCALENDAR
