BEGIN:VCALENDAR
VERSION:2.0
PRODID:-//ChamberMaster//Event Calendar 2.0//EN
METHOD:PUBLISH
X-PUBLISHED-TTL:P3D
REFRESH-INTERVAL:P3D
CALSCALE:GREGORIAN
BEGIN:VEVENT
DTSTART;VALUE=DATE:20180415
DTEND;VALUE=DATE:20180416
TRANSP:TRANSPARENT
X-MICROSOFT-CDO-ALLDAYEVENT:TRUE
SUMMARY:Fish and Play
DESCRIPTION:Come Out and enjoy some golf with a little fishing during this beautiful spring day.
X-ALT-DESC;FMTTYPE=text/html:Come Out and enjoy some golf with a little fishing during this beautiful spring day.
LOCATION:The Oaks Course 11240 Brown Bridge Road Covington\, GA 30014
UID:e.1627.5623
SEQUENCE:3
DTSTAMP:20260423T015546Z
URL:https://business.newtonchamber.com/events/details/fish-and-play-5623
END:VEVENT

END:VCALENDAR
