BEGIN:VCALENDAR
VERSION:2.0
PRODID:-//ChamberMaster//Event Calendar 2.0//EN
METHOD:PUBLISH
X-PUBLISHED-TTL:P3D
REFRESH-INTERVAL:P3D
CALSCALE:GREGORIAN
BEGIN:VEVENT
DTSTART;VALUE=DATE:20180511
DTEND;VALUE=DATE:20180512
TRANSP:TRANSPARENT
X-MICROSOFT-CDO-ALLDAYEVENT:TRUE
SUMMARY:Family Putt-Putt
DESCRIPTION:Bring the family out for evening of fun of putt-putt on the greens!\n\nWe will be grilling out!
X-ALT-DESC;FMTTYPE=text/html:Bring the family out for evening of fun of putt-putt on the greens!<br />\nWe will be grilling out!
LOCATION:11240 Brown Bridge Road Covington\, GA 30014
UID:e.1627.6624
SEQUENCE:3
DTSTAMP:20260423T033456Z
URL:https://business.newtonchamber.com/events/details/family-putt-putt-6624
END:VEVENT

END:VCALENDAR
