BEGIN:VCALENDAR
VERSION:2.0
PRODID:-//ChamberMaster//Event Calendar 2.0//EN
METHOD:PUBLISH
X-PUBLISHED-TTL:P3D
REFRESH-INTERVAL:P3D
CALSCALE:GREGORIAN
BEGIN:VEVENT
DTSTART:20130926T160000Z
DTEND:20130926T160000Z
X-MICROSOFT-CDO-ALLDAYEVENT:FALSE
SUMMARY:Fall Luncheon Concert on the Square
DESCRIPTION:Fall Luncheon Concert on the Square sponsored by the Arts Association and Main Street Covington.  770-786-8188 or 770-385-2077 for information
X-ALT-DESC;FMTTYPE=text/html:<span style="font: 13px/normal Arial\, Helvetica\, sans-serif\; color: rgb(66\, 66\, 66)\; text-transform: none\; text-indent: 0px\; letter-spacing: normal\; word-spacing: 0px\; float: none\; display: inline !important\; white-space: normal\; font-size-adjust: none\; font-stretch: normal\; background-color: rgb(255\, 255\, 255)\; -webkit-text-size-adjust: auto\; -webkit-text-stroke-width: 0px\;"><span style="font: 13px/normal Arial\, Helvetica\, sans-serif\; color: rgb(66\, 66\, 66)\; text-transform: none\; text-indent: 0px\; letter-spacing: normal\; word-spacing: 0px\; float: none\; display: inline !important\; white-space: normal\; font-size-adjust: none\; font-stretch: normal\; background-color: rgb(255\, 255\, 255)\; -webkit-text-size-adjust: auto\; -webkit-text-stroke-width: 0px\;">Fall Luncheon Concert on the Square sponsored by the Arts Association and Main Street Covington.&nbsp\; 770-786-8188 or 770-385-2077 for information</span></span>
LOCATION:Downtown Covington Square
UID:e.1627.51
SEQUENCE:3
DTSTAMP:20260419T212404Z
URL:https://business.newtonchamber.com/events/details/fall-luncheon-concert-on-the-square-09-26-2013-51
END:VEVENT

END:VCALENDAR
