BEGIN:VCALENDAR
VERSION:2.0
PRODID:-//ChamberMaster//Event Calendar 2.0//EN
METHOD:PUBLISH
X-PUBLISHED-TTL:P3D
REFRESH-INTERVAL:P3D
CALSCALE:GREGORIAN
BEGIN:VEVENT
DTSTART:20161103T220000Z
DTEND:20161103T233000Z
X-MICROSOFT-CDO-ALLDAYEVENT:FALSE
SUMMARY:Emergency Preparedness for Senior Adults
DESCRIPTION:What should go in your emergency kit?  Learn best practices for situations involving natural disaster\, inclement weather and other issues that may arise.  Janet Dawkins\, with Aging Options of Georiga\, will present valuable information.  Light dinner served.  Kindly RSVP.
X-ALT-DESC;FMTTYPE=text/html:What should go in your emergency kit?&nbsp\; Learn best practices for situations involving natural disaster\, inclement weather and other issues that may arise.&nbsp\; Janet Dawkins\, with Aging Options of Georiga\,&nbsp\;will present valuable information.&nbsp\; Light dinner served.&nbsp\; Kindly RSVP.
LOCATION:Benton House of Covington Senior Living Community 7155 Dearing Road Covington\, GA 30014
UID:e.1627.3072
SEQUENCE:3
DTSTAMP:20260422T000145Z
URL:https://business.newtonchamber.com/events/details/emergency-preparedness-for-senior-adults-3072
END:VEVENT

END:VCALENDAR
