BEGIN:VCALENDAR
VERSION:2.0
PRODID:-//ChamberMaster//Event Calendar 2.0//EN
METHOD:PUBLISH
X-PUBLISHED-TTL:P3D
REFRESH-INTERVAL:P3D
CALSCALE:GREGORIAN
BEGIN:VEVENT
DTSTART:20170226T003000Z
DTEND:20170226T023000Z
X-MICROSOFT-CDO-ALLDAYEVENT:FALSE
SUMMARY:Elvis in Newborn
DESCRIPTION:Lou Vuto (as Elvis) will be making a return appearance at the old Schoolhouse in Newborn. Tickets are $20.00. Call Terry Reynolds @ 770-787-8446 for more information / tickets. This will be Lou's fourth appearance in Newborn\, and he always puts on a great show so don't miss out! :)  Meet 'n greet after the show.
X-ALT-DESC;FMTTYPE=text/html:<span style="font-size:14px"><span style="font-family:verdana">Lou Vuto (as Elvis) will be making a return appearance at the old Schoolhouse in Newborn. Tickets are $20.00. Call Terry Reynolds @ 770-787-8446 for more information / tickets. This will be Lou&#39\;s fourth appearance in Newborn\, and he always puts on a great show so don&#39\;t miss out! :) &nbsp\;Meet &#39\;n greet after the show.&nbsp\;</span></span>
LOCATION:Old Newborn Schoolhouse - located at 4326 Hwy 142 - Newborn\, GA 30056
UID:e.1627.3775
SEQUENCE:3
DTSTAMP:20260422T060811Z
URL:https://business.newtonchamber.com/events/details/elvis-in-newborn-3775
END:VEVENT

END:VCALENDAR
