BEGIN:VCALENDAR
VERSION:2.0
PRODID:-//ChamberMaster//Event Calendar 2.0//EN
METHOD:PUBLISH
X-PUBLISHED-TTL:P3D
REFRESH-INTERVAL:P3D
CALSCALE:GREGORIAN
BEGIN:VEVENT
DTSTART:20200412T110000Z
DTEND:20200412T120000Z
X-MICROSOFT-CDO-ALLDAYEVENT:FALSE
SUMMARY:Easter Sunrise Service
DESCRIPTION:Come and join us for our Easter Sunday Sunrise Service
X-ALT-DESC;FMTTYPE=text/html:Come and join us for our Easter Sunday Sunrise Service
LOCATION:
UID:e.1627.8060
SEQUENCE:3
DTSTAMP:20260421T062605Z
URL:https://business.newtonchamber.com/events/details/easter-sunrise-service-8060
END:VEVENT

END:VCALENDAR
