BEGIN:VCALENDAR
VERSION:2.0
PRODID:-//ChamberMaster//Event Calendar 2.0//EN
METHOD:PUBLISH
X-PUBLISHED-TTL:P3D
REFRESH-INTERVAL:P3D
CALSCALE:GREGORIAN
BEGIN:VEVENT
DTSTART;VALUE=DATE:20241014
DTEND;VALUE=DATE:20241015
TRANSP:TRANSPARENT
X-MICROSOFT-CDO-ALLDAYEVENT:TRUE
SUMMARY:East Metro Board of REALTORS Golf Tournament
DESCRIPTION:The East Metro Board of REALTORS Golf Tournament benefits the EMBOR scholarship fund.
X-ALT-DESC;FMTTYPE=text/html:The East Metro Board of REALTORS Golf Tournament benefits the EMBOR scholarship fund.&nbsp\;
LOCATION:Cherokee Run Golf Club 1595 Centennial Olympic Pkwy NE Conyers\, GA 30013 (770) 785-7904
UID:e.1627.13281
SEQUENCE:3
DTSTAMP:20260419T154050Z
URL:https://business.newtonchamber.com/events/details/east-metro-board-of-realtors-golf-tournament-13281
END:VEVENT

END:VCALENDAR
