BEGIN:VCALENDAR
VERSION:2.0
PRODID:-//ChamberMaster//Event Calendar 2.0//EN
METHOD:PUBLISH
X-PUBLISHED-TTL:P3D
REFRESH-INTERVAL:P3D
CALSCALE:GREGORIAN
BEGIN:VEVENT
DTSTART:20171202T230000Z
DTEND:20171203T010000Z
X-MICROSOFT-CDO-ALLDAYEVENT:FALSE
SUMMARY:Doug Jones Toys for Tots and food drive Music Concert
DESCRIPTION:Free ADmission.\n\nPlease bring a toy or Non parishable food.\n\nLive enetrtainment\n\n50/50\n\nDoor Prizes.\n\nSanta will be there for you to take pictures with. \n\nGet your tickets for a chance to win a diamond ring.\n\nAnd for every toy you bring in you get a ticket for a chance to win diamond earrings.
X-ALT-DESC;FMTTYPE=text/html:Free ADmission.<br />\nPlease bring a toy or Non parishable food.<br />\nLive enetrtainment<br />\n50/50<br />\nDoor Prizes.<br />\nSanta will be there for you to take pictures with.&nbsp\;<br />\nGet your tickets for a chance to win a diamond ring.<br />\nAnd for every toy you bring in you get a ticket for a chance to win diamond earrings.
LOCATION:Elks Lodge 135 Crowell Rd N Covington
UID:e.1627.4330
SEQUENCE:3
DTSTAMP:20260422T190620Z
URL:https://business.newtonchamber.com/events/details/doug-jones-toys-for-tots-and-food-drive-music-concert-4330
END:VEVENT

END:VCALENDAR
