BEGIN:VCALENDAR
VERSION:2.0
PRODID:-//ChamberMaster//Event Calendar 2.0//EN
METHOD:PUBLISH
X-PUBLISHED-TTL:P3D
REFRESH-INTERVAL:P3D
CALSCALE:GREGORIAN
BEGIN:VEVENT
DTSTART:20161021T190000Z
DTEND:20161021T210000Z
X-MICROSOFT-CDO-ALLDAYEVENT:FALSE
SUMMARY:Dizzy Gillespie's Birthday
DESCRIPTION:Celebrate Dizzy Gillespie's birthday with an All That Jass social and open house.  That cat sure knew how to blow his horn.  Kindly RSVP.
X-ALT-DESC;FMTTYPE=text/html:Celebrate Dizzy Gillespie&#39\;s birthday with an All That Jass social and open house.&nbsp\; That cat sure knew how to blow his horn.&nbsp\; Kindly RSVP.
LOCATION:Benton House of Covington Senior Living Community 7155 Dearing Road Covington\, GA 30014
UID:e.1627.3073
SEQUENCE:3
DTSTAMP:20260421T223346Z
URL:https://business.newtonchamber.com/events/details/dizzy-gillespie-s-birthday-3073
END:VEVENT

END:VCALENDAR
