BEGIN:VCALENDAR
VERSION:2.0
PRODID:-//ChamberMaster//Event Calendar 2.0//EN
METHOD:PUBLISH
X-PUBLISHED-TTL:P3D
REFRESH-INTERVAL:P3D
CALSCALE:GREGORIAN
BEGIN:VEVENT
DTSTART:20170117T223000Z
DTEND:20170118T000000Z
X-MICROSOFT-CDO-ALLDAYEVENT:FALSE
SUMMARY:DIY Healthy Living: Make & Take Foaming Hand Soap
DESCRIPTION:Create your own all-natural\, essential-oil infused foaming hand soap. At the end of this class you will take home your own bottle of soap and a recipe card for re-creating the product with confidence and success at home. Learn the process of making a delightful smelling foaming hand soap\, and the health benefits of making your own soap\, as well as what's in some everyday products around your home\, with Integrative Nutrition Health Coach\, LeeAnne Cordell.
X-ALT-DESC;FMTTYPE=text/html:Create your own all-natural\, essential-oil infused foaming hand soap. At the end of this class you will take home your own bottle of soap and a recipe card for re-creating the product with confidence and success at home. Learn the process of making a delightful smelling foaming hand soap\, and the health benefits of making your own soap\, as well as what&rsquo\;s in some everyday products around your home\, with Integrative Nutrition Health Coach\, <em><strong>LeeAnne Cordell</strong></em>.
LOCATION:Farmview Market 2610 Eatonton Highway Madison\, GA 30650
UID:e.1627.3739
SEQUENCE:3
DTSTAMP:20260422T030029Z
URL:https://business.newtonchamber.com/events/details/diy-healthy-living-make-take-foaming-hand-soap-3739
END:VEVENT

END:VCALENDAR
