BEGIN:VCALENDAR
VERSION:2.0
PRODID:-//ChamberMaster//Event Calendar 2.0//EN
METHOD:PUBLISH
X-PUBLISHED-TTL:P3D
REFRESH-INTERVAL:P3D
CALSCALE:GREGORIAN
BEGIN:VEVENT
DTSTART:20170613T220000Z
DTEND:20170613T230000Z
X-MICROSOFT-CDO-ALLDAYEVENT:FALSE
SUMMARY:Diabetes Education Class
DESCRIPTION:This is our FREE diabetes education class for residents of Newton County.  This class is led by our own pharmacist\, . Larry Briggs\, PharmD.  Each class begins at 6:00pm and ends at 7:00pm.  ?We invite you to attend this class and bring a friend!  While we would love to fill all your prescription needs\, this is not a requirement to attend this class.\n\n \n\nCall 678 712-4570 to reserve your spot today.
X-ALT-DESC;FMTTYPE=text/html:<div>This is our FREE diabetes education class for residents of Newton County.&nbsp\; This class is led by our own pharmacist\,&nbsp\;. Larry Briggs\, PharmD.&nbsp\; Each class begins at 6:00pm and ends at 7:00pm.&nbsp\; ?We invite you to attend this class and bring a friend!&nbsp\; While we would love to fill all your prescription needs\, this is not a requirement to attend this class.</div>\n\n<div>&nbsp\;</div>\n\n<div>Call 678 712-4570 to reserve your spot today.&nbsp\;</div>\n
LOCATION:
UID:e.1627.3796
SEQUENCE:3
DTSTAMP:20260422T103938Z
URL:https://business.newtonchamber.com/events/details/diabetes-education-class-3796
END:VEVENT

END:VCALENDAR
