BEGIN:VCALENDAR
VERSION:2.0
PRODID:-//ChamberMaster//Event Calendar 2.0//EN
METHOD:PUBLISH
X-PUBLISHED-TTL:P3D
REFRESH-INTERVAL:P3D
CALSCALE:GREGORIAN
BEGIN:VEVENT
DTSTART:20161001T160000Z
DTEND:20161002T210000Z
X-MICROSOFT-CDO-ALLDAYEVENT:FALSE
SUMMARY:Cowboy Dayz at Mitcham Farm
DESCRIPTION:Dress in your Cowboy best (if you wish) and enjoy a fun weekend on the farm experiencing Western-themed activities including authentic western gunfight reenactments\, chuck wagon cooking\, jail wagon\, and more. (Check mitchamfarm.com or facebook.com/mitchamfarm for additional details.)\n\n\n\nAlso enjoy our regular family-friendly activities including our giant corn maze and maze games\, pumpkin patch\, hayrides\, jumbo jump pad\, corn cannon\, pedal carts\, cow train\, mechanical bull\, pony rides\, play area\, concessions\, farm stand (featuring fall d cor\, produce\, and specialty food items)\, and more. (And don't forget to bring your flashlight to explore the maze after dark on Saturday night if you're feeling daring!)\n \n\nCOWBOY DAYZ HOURS:\n\nSaturday 12PM - 10PM\n\nSunday 1PM - 5PM\n \n\n \n \n\nMitcham Farm is great for families\, groups\, scout troops\, youth groups\, school field trips\, and special events including parties\, weddings\, reunions\, and corporate events. Discounts and special options available.\n \n\nWe're a family owned and operated farm offering "Real Farm\, Real Food\, and Real Fun." The farm is located just 30 miles east of downtown Atlanta\, less than 5 miles from Interstate 20.\n\n\nLEARN MORE: www.mitchamfarm.com
X-ALT-DESC;FMTTYPE=text/html:<p><span style="background-color:transparent\; color:rgb(0\, 0\, 0)\; font-family:calibri\; font-size:18.6667px">Dress in your Cowboy best (if you wish) and enjoy a fun weekend on the farm experiencing Western-themed activities including authentic western gunfight reenactments\, chuck wagon cooking\, jail wagon\, and more. (Check mitchamfarm.com or facebook.com/mitchamfarm for additional details.)</span></p>\n\n<p><br />\n<span style="background-color:transparent\; color:rgb(0\, 0\, 0)\; font-family:calibri\; font-size:18.6667px">Also enjoy our regular family-friendly activities including our giant corn maze and maze games\, pumpkin patch\, hayrides\, jumbo jump pad\, corn cannon\, pedal carts\, cow train\, mechanical bull\, pony rides\, play area\, concessions\, farm stand (featuring fall d&eacute\;cor\, produce\, and specialty food items)\, and more. (And don&rsquo\;t forget to bring your flashlight to explore the maze after dark on Saturday night if you&rsquo\;re feeling daring!)</span></p>\n&nbsp\;\n\n<p><span style="background-color:transparent\; color:rgb(0\, 0\, 0)\; font-family:calibri\; font-size:18.6667px">COWBOY DAYZ HOURS:</span></p>\n\n<p><span style="background-color:transparent\; color:rgb(0\, 0\, 0)\; font-family:calibri\; font-size:18.6667px">Saturday 12PM - 10PM</span></p>\n\n<p><span style="background-color:transparent\; color:rgb(0\, 0\, 0)\; font-family:calibri\; font-size:18.6667px">Sunday 1PM - 5PM</span></p>\n&nbsp\;\n\n<p>&nbsp\;</p>\n&nbsp\;\n\n<p><span style="background-color:transparent\; color:rgb(0\, 0\, 0)\; font-family:calibri\; font-size:18.6667px">Mitcham Farm is great for families\, groups\, scout troops\, youth groups\, school field trips\, and special events including parties\, weddings\, reunions\, and corporate events. Discounts and special options available.</span></p>\n&nbsp\;\n\n<p><span style="background-color:transparent\; color:rgb(0\, 0\, 0)\; font-family:calibri\; font-size:18.6667px">We&rsquo\;re a family owned and operated farm offering &ldquo\;Real Farm\, Real Food\, and Real Fun.&rdquo\; The farm is located just 30 miles east of downtown Atlanta\, less than 5 miles from Interstate 20.</span></p>\n<br />\n<span style="background-color:transparent\; color:rgb(0\, 0\, 0)\; font-family:calibri\; font-size:18.6667px">LEARN MORE: www.mitchamfarm.com</span>
LOCATION:Colonel Cob's Corn Maze & Pumpkin Patch at Mitcham Farm 797 Macedonia Church Road Oxford\, Georgia 30054
UID:e.1627.3077
SEQUENCE:3
DTSTAMP:20260421T223321Z
URL:https://business.newtonchamber.com/events/details/cowboy-dayz-3077
END:VEVENT

END:VCALENDAR
