BEGIN:VCALENDAR
VERSION:2.0
PRODID:-//ChamberMaster//Event Calendar 2.0//EN
METHOD:PUBLISH
X-PUBLISHED-TTL:P3D
REFRESH-INTERVAL:P3D
CALSCALE:GREGORIAN
BEGIN:VEVENT
DTSTART:20170112T230000Z
DTEND:20170113T020000Z
X-MICROSOFT-CDO-ALLDAYEVENT:FALSE
SUMMARY:Covington/Newton Chamber Annual Dinner
DESCRIPTION:Covington/Newton Chamber Annual Dinner
X-ALT-DESC;FMTTYPE=text/html:Covington/Newton Chamber Annual Dinner&nbsp\;&nbsp\;&nbsp\;&nbsp\;
LOCATION:Charlie Elliott Wildlife Center 543 Elliott Trail Mansfield\, GA 30055
UID:e.1627.3076
SEQUENCE:3
DTSTAMP:20260422T025825Z
URL:https://business.newtonchamber.com/events/details/covington-newton-chamber-annual-dinner-3076
END:VEVENT

END:VCALENDAR
