BEGIN:VCALENDAR
VERSION:2.0
PRODID:-//ChamberMaster//Event Calendar 2.0//EN
METHOD:PUBLISH
X-PUBLISHED-TTL:P3D
REFRESH-INTERVAL:P3D
CALSCALE:GREGORIAN
BEGIN:VEVENT
DTSTART:20160924T160000Z
DTEND:20160925T020000Z
X-MICROSOFT-CDO-ALLDAYEVENT:FALSE
SUMMARY:Corn Maze & Pumpkin Patch Opening Day at Mitcham Farm benefiting Shriners Hospital for Children
DESCRIPTION:Join us for opening day at our Corn Maze & Pumpkin Patch as we raise money for the Shriners and Shriners Hospital for Children! Come and enjoy fun on the farm while also contributing to a great cause!\n50% of all admission proceeds on Saturday will be donated to the Shriners. Shriners Hospital for Children is committed to providing the best care for children in their specialty areas of Orthopedics\, Burn Care\, Spinal Cord Injury\, and Cleft Lip and Palate\, regardless of a family's ability to pay.\n\n\n\nCome visit us and enjoy hands-on\, family-friendly activities including our giant corn maze and maze games\, pumpkin patch\, farm stand (featuring fall d cor\, produce\, and specialty food items)\, hayrides\, jumbo pillow jumper\, corn cannon\, pedal carts\, cow train\, mechanical bull ride\, pony rides\, play area\, concessions\, and more. (And don't forget to bring your flashlight to explore the maze after dark if you're feeling daring!)\n\n\n\nSpecial highlights for our opening day include a gospel-blues band and other live music all day.\n\n\n\nAccess to the Pumpkin Patch or Farm Stand is FREE. Admission wristbands are required for all other attractions. Some attractions are an additional fee. Kids 2 and under are free.\n\n \nMitcham Farm is a family owned and operated farm offering "Real Farm\, Real Food\, and Real FIN!" The farm is located just 30 miles east of downtown Atlanta\, less than 5 miles from Interstate 20.\n\n\nLearn more at mitchamfarm.com.
X-ALT-DESC;FMTTYPE=text/html:<p><span style="background-color:transparent\; color:#000000\; font-family:calibri\; font-size:18.666666666666664px">Join us for opening day at our Corn Maze &amp\; Pumpkin Patch as we raise money for the Shriners and Shriners Hospital for Children! Come and enjoy fun on the farm while also contributing to a great cause!</span></p>\n<span style="background-color:transparent\; color:#000000\; font-family:calibri\; font-size:18.666666666666664px">50% of all admission proceeds on Saturday will be donated to the Shriners. Shriners Hospital for Children is committed to providing the best care for children in their specialty areas of Orthopedics\, Burn Care\, Spinal Cord Injury\, and Cleft Lip and Palate\, regardless of a family&rsquo\;s ability to pay.</span><br />\n<br />\n<span style="background-color:transparent\; color:#000000\; font-family:calibri\; font-size:18.666666666666664px">Come visit us and enjoy hands-on\, family-friendly activities including our giant corn maze and maze games\, pumpkin patch\, farm stand (featuring fall d&eacute\;cor\, produce\, and specialty food items)\, hayrides\, jumbo pillow jumper\, corn cannon\, pedal carts\, cow train\, mechanical bull ride\, pony rides\, play area\, concessions\, and more. (And don&rsquo\;t forget to bring your flashlight to explore the maze after dark if you&rsquo\;re feeling daring!)</span><br />\n<br />\n<span style="background-color:transparent\; color:#000000\; font-family:calibri\; font-size:18.666666666666664px">Special highlights for our opening day include a gospel-blues band and other live music all day.</span><br />\n<br />\n<span style="background-color:transparent\; color:#000000\; font-family:calibri\; font-size:18.666666666666664px">Access to the Pumpkin Patch or Farm Stand is FREE. Admission wristbands are required for all other attractions. Some attractions are an additional fee. Kids 2 and under are free.</span><br />\n&nbsp\;\n<p><span style="background-color:transparent\; color:#000000\; font-family:calibri\; font-size:18.666666666666664px">Mitcham Farm is a family owned and operated farm offering &ldquo\;Real Farm\, Real Food\, and Real FIN!&rdquo\; The farm is located just 30 miles east of downtown Atlanta\, less than 5 miles from Interstate 20.</span></p>\n<br />\n<span style="background-color:transparent\; color:#000000\; font-family:calibri\; font-size:18.666666666666664px">Learn more at mitchamfarm.com.</span>
LOCATION:Mitcham Farm 797 Macedonia Church Road Oxford\, Georgia 30054
UID:e.1627.3075
SEQUENCE:3
DTSTAMP:20260421T224505Z
URL:https://business.newtonchamber.com/events/details/corn-maze-pumpkin-patch-opening-day-at-mitcham-farm-benefiting-shriners-hospital-for-children-3075
END:VEVENT

END:VCALENDAR
