BEGIN:VCALENDAR
VERSION:2.0
PRODID:-//ChamberMaster//Event Calendar 2.0//EN
METHOD:PUBLISH
X-PUBLISHED-TTL:P3D
REFRESH-INTERVAL:P3D
CALSCALE:GREGORIAN
BEGIN:VEVENT
DTSTART:20131201T200000Z
DTEND:20131201T200000Z
X-MICROSOFT-CDO-ALLDAYEVENT:FALSE
SUMMARY:Community Bike Ride
DESCRIPTION:Community Bike Ride sponsored by Main Street Covington\, beginning at the Historic Courthouse on the Square.  770-385-2077 for information
X-ALT-DESC;FMTTYPE=text/html:<span style="font: 13px/normal Arial\, Helvetica\, sans-serif\; color: rgb(66\, 66\, 66)\; text-transform: none\; text-indent: 0px\; letter-spacing: normal\; word-spacing: 0px\; float: none\; display: inline !important\; white-space: normal\; font-size-adjust: none\; font-stretch: normal\; background-color: rgb(255\, 255\, 255)\; -webkit-text-size-adjust: auto\; -webkit-text-stroke-width: 0px\;">Community Bike Ride sponsored by Main Street Covington\, beginning at the Historic Courthouse on the Square.&nbsp\; 770-385-2077 for information</span>
LOCATION:Downtown Covington Square
UID:e.1627.56
SEQUENCE:3
DTSTAMP:20260419T170731Z
URL:https://business.newtonchamber.com/events/details/community-bike-ride-12-01-2013-56
END:VEVENT

END:VCALENDAR
