BEGIN:VCALENDAR
VERSION:2.0
PRODID:-//ChamberMaster//Event Calendar 2.0//EN
METHOD:PUBLISH
X-PUBLISHED-TTL:P3D
REFRESH-INTERVAL:P3D
CALSCALE:GREGORIAN
BEGIN:VEVENT
DTSTART:20161115T160000Z
DTEND:20161115T163000Z
X-MICROSOFT-CDO-ALLDAYEVENT:FALSE
SUMMARY:Common Ground Coffee House ~~RIBBON CUTTING~~
DESCRIPTION:RIBBON CUTTING~~   Common Ground Coffee House
X-ALT-DESC;FMTTYPE=text/html:RIBBON CUTTING~~ &nbsp\;&nbsp\;Common Ground Coffee House
LOCATION:Common Ground Coffee House 5128 Emory Street\, NW Covington\, GA 30014 (770) 728-1622
UID:e.1627.3690
SEQUENCE:3
DTSTAMP:20260422T000144Z
URL:https://business.newtonchamber.com/events/details/common-ground-coffee-house-ribbon-cutting-3690
END:VEVENT

END:VCALENDAR
