BEGIN:VCALENDAR
VERSION:2.0
PRODID:-//ChamberMaster//Event Calendar 2.0//EN
METHOD:PUBLISH
X-PUBLISHED-TTL:P3D
REFRESH-INTERVAL:P3D
CALSCALE:GREGORIAN
BEGIN:VEVENT
DTSTART:20200119T130000Z
DTEND:20200119T190000Z
X-MICROSOFT-CDO-ALLDAYEVENT:FALSE
SUMMARY:Commitment Sunday Service with Banquet
DESCRIPTION:Have you made 2020 the year you get closer to Jesus\, but you don't know where to start? Join us at Abiding Grace for Commitment Sunday! We'll worship the Lord who committed everything to save us and we will learn how we can commit everything to serve Him! We have services at 8 and 10:30am\, and following the 10:30am service we will have a banquet to honor our new members who joined this past year and to learn about all the cool ways we can serve God in our families\, community\, and the world!
X-ALT-DESC;FMTTYPE=text/html:<code><samp>Have you made 2020 the year you get closer to Jesus\, but you don&#39\;t know where to start? Join us at Abiding Grace for Commitment Sunday! We&#39\;ll worship the Lord who committed everything to save us and we will learn how we can commit everything to serve Him! We have services at 8 and 10:30am\, and following the 10:30am service we will have a banquet to honor our new members who joined this past year and to learn about all the cool ways we can serve God in our families\, community\, and the world!</samp></code>
LOCATION:Abiding Grace Lutheran Church 5500 Highway 212 Covington\, GA 30016
UID:e.1627.7638
SEQUENCE:3
DTSTAMP:20260425T162120Z
URL:https://business.newtonchamber.com/events/details/commitment-sunday-service-with-banquet-7638
END:VEVENT

END:VCALENDAR
