BEGIN:VCALENDAR
VERSION:2.0
PRODID:-//ChamberMaster//Event Calendar 2.0//EN
METHOD:PUBLISH
X-PUBLISHED-TTL:P3D
REFRESH-INTERVAL:P3D
CALSCALE:GREGORIAN
BEGIN:VEVENT
DTSTART:20190605T123000Z
DTEND:20190605T133000Z
X-MICROSOFT-CDO-ALLDAYEVENT:FALSE
SUMMARY:COFFEE CALL SERIES
DESCRIPTION:Start your morning off right meeting\, greeting and networking with business and community leaders
X-ALT-DESC;FMTTYPE=text/html:Start your morning off right meeting\, greeting and networking with business and community leaders<br style="line-height: 20.8px\;" />\n<br />\n<br />\n<br />\n&nbsp\;
LOCATION:Steel Co 55 Oxford Business Pkwy a\, Oxford\, GA 30054
UID:e.1627.6870
SEQUENCE:3
DTSTAMP:20260422T082419Z
URL:https://business.newtonchamber.com/events/details/coffee-call-series-6870
END:VEVENT

END:VCALENDAR
