BEGIN:VCALENDAR
VERSION:2.0
PRODID:-//ChamberMaster//Event Calendar 2.0//EN
METHOD:PUBLISH
X-PUBLISHED-TTL:P3D
REFRESH-INTERVAL:P3D
CALSCALE:GREGORIAN
BEGIN:VEVENT
DTSTART:20190501T123000Z
DTEND:20190501T133000Z
X-MICROSOFT-CDO-ALLDAYEVENT:FALSE
SUMMARY:COFFEE CALL SERIES
DESCRIPTION:Start your morning off right meeting\, greeting and networking with business and community leaders
X-ALT-DESC;FMTTYPE=text/html:Start your morning off right meeting\, greeting and networking with business and community leaders<br style="line-height: 20.8px\;" />\n<br />\n<br />\n<br />\n&nbsp\;
LOCATION:Newton County Board of Education 2109 Newton Drive NE\, Covington\, GA 30014
UID:e.1627.6869
SEQUENCE:3
DTSTAMP:20260422T094615Z
URL:https://business.newtonchamber.com/events/details/coffee-call-series-6869
END:VEVENT

END:VCALENDAR
