BEGIN:VCALENDAR
VERSION:2.0
PRODID:-//ChamberMaster//Event Calendar 2.0//EN
METHOD:PUBLISH
X-PUBLISHED-TTL:P3D
REFRESH-INTERVAL:P3D
CALSCALE:GREGORIAN
BEGIN:VEVENT
DTSTART:20190403T123000Z
DTEND:20190403T133000Z
X-MICROSOFT-CDO-ALLDAYEVENT:FALSE
SUMMARY:COFFEE CALL SERIES
DESCRIPTION:CANCELLED
X-ALT-DESC;FMTTYPE=text/html:<strong><span style="font-size:26px\;">CANCELLED</span></strong><br />\n<br />\n<br />\n&nbsp\;
LOCATION:
UID:e.1627.6868
SEQUENCE:3
DTSTAMP:20260422T111916Z
URL:https://business.newtonchamber.com/events/details/coffee-call-series-6868
END:VEVENT

END:VCALENDAR
