BEGIN:VCALENDAR
VERSION:2.0
PRODID:-//ChamberMaster//Event Calendar 2.0//EN
METHOD:PUBLISH
X-PUBLISHED-TTL:P3D
REFRESH-INTERVAL:P3D
CALSCALE:GREGORIAN
BEGIN:VEVENT
DTSTART:20180905T123000Z
DTEND:20180905T133000Z
X-MICROSOFT-CDO-ALLDAYEVENT:FALSE
SUMMARY:COFFEE CALL SERIES
DESCRIPTION:Start your morning off right meeting\, greeting and networking with business and community leaders.
X-ALT-DESC;FMTTYPE=text/html:<span style="font-size:16px\;"><span style="line-height: 20.8px\;">Start your morning off right meeting\, greeting and networking with business and community leaders.</span></span><br style="line-height: 20.8px\;" />\n<br style="line-height: 20.8px\;" />\n<br />\n<br />\n<br />\n&nbsp\;
LOCATION:Georgia Piedmont Technical College 8100 Bob Williams Parkway Covington\, GA 30014
UID:e.1627.6811
SEQUENCE:3
DTSTAMP:20260422T222639Z
URL:https://business.newtonchamber.com/events/details/coffee-call-series-6811
END:VEVENT

END:VCALENDAR
