BEGIN:VCALENDAR
VERSION:2.0
PRODID:-//ChamberMaster//Event Calendar 2.0//EN
METHOD:PUBLISH
X-PUBLISHED-TTL:P3D
REFRESH-INTERVAL:P3D
CALSCALE:GREGORIAN
BEGIN:VEVENT
DTSTART:20181205T133000Z
DTEND:20181205T143000Z
X-MICROSOFT-CDO-ALLDAYEVENT:FALSE
SUMMARY:COFFEE CALL SERIES
DESCRIPTION:Get in the Christmas Spirit & start your morning off right meeting\, greeting and networking with business and community leaders.
X-ALT-DESC;FMTTYPE=text/html:<span style="font-size:16px\;"><span style="line-height: 20.8px\;">Get in the Christmas Spirit &amp\; start your morning off right meeting\, greeting and networking with business and community leaders.</span></span><br style="line-height: 20.8px\;" />\n<br style="line-height: 20.8px\;" />\n<br />\n<br />\n<br />\n&nbsp\;
LOCATION:Berry's Tree Farm 70 Mount Tabor Road Covington\, GA 30014
UID:e.1627.6681
SEQUENCE:3
DTSTAMP:20260422T172434Z
URL:https://business.newtonchamber.com/events/details/coffee-call-series-6681
END:VEVENT

END:VCALENDAR
