BEGIN:VCALENDAR
VERSION:2.0
PRODID:-//ChamberMaster//Event Calendar 2.0//EN
METHOD:PUBLISH
X-PUBLISHED-TTL:P3D
REFRESH-INTERVAL:P3D
CALSCALE:GREGORIAN
BEGIN:VEVENT
DTSTART:20131002T123000Z
DTEND:20131002T133000Z
X-MICROSOFT-CDO-ALLDAYEVENT:FALSE
SUMMARY:Coffee Call~Providence Christian School
DESCRIPTION:Member Networking Opportunity
X-ALT-DESC;FMTTYPE=text/html:Member Networking Opportunity
LOCATION:252 Byrd Road Oxford\, GA 30054
UID:e.1627.52
SEQUENCE:3
DTSTAMP:20260419T183336Z
URL:https://business.newtonchamber.com/events/details/coffee-call-providence-christian-school-10-02-2013-52
END:VEVENT

END:VCALENDAR
