BEGIN:VCALENDAR
VERSION:2.0
PRODID:-//ChamberMaster//Event Calendar 2.0//EN
METHOD:PUBLISH
X-PUBLISHED-TTL:P3D
REFRESH-INTERVAL:P3D
CALSCALE:GREGORIAN
BEGIN:VEVENT
DTSTART:20150603T123000Z
DTEND:20150603T133000Z
X-MICROSOFT-CDO-ALLDAYEVENT:FALSE
SUMMARY:Coffee Call Longleaf Hospice
DESCRIPTION:
X-ALT-DESC;FMTTYPE=text/html:
LOCATION:
UID:e.1627.1599
SEQUENCE:3
DTSTAMP:20260420T081801Z
URL:https://business.newtonchamber.com/events/details/coffee-call-longleaf-hospice-06-03-2015-1599
END:VEVENT

END:VCALENDAR
