BEGIN:VCALENDAR
VERSION:2.0
PRODID:-//ChamberMaster//Event Calendar 2.0//EN
METHOD:PUBLISH
X-PUBLISHED-TTL:P3D
REFRESH-INTERVAL:P3D
CALSCALE:GREGORIAN
BEGIN:VEVENT
DTSTART:20130904T123000Z
DTEND:20130904T133000Z
X-MICROSOFT-CDO-ALLDAYEVENT:FALSE
SUMMARY:Coffee Call at Washington Street Community Center
DESCRIPTION:Member Networking Opportunity
X-ALT-DESC;FMTTYPE=text/html:Member Networking Opportunity
LOCATION:Washington Street Community Center 4138 School Street Covington\, GA 30014
UID:e.1627.46
SEQUENCE:3
DTSTAMP:20260419T182246Z
URL:https://business.newtonchamber.com/events/details/coffee-call-at-washington-street-community-center-09-04-2013-46
END:VEVENT

END:VCALENDAR
