BEGIN:VCALENDAR
VERSION:2.0
PRODID:-//ChamberMaster//Event Calendar 2.0//EN
METHOD:PUBLISH
X-PUBLISHED-TTL:P3D
REFRESH-INTERVAL:P3D
CALSCALE:GREGORIAN
BEGIN:VEVENT
DTSTART:20131204T133000Z
DTEND:20131204T143000Z
X-MICROSOFT-CDO-ALLDAYEVENT:FALSE
SUMMARY:Coffee Call at United Bank of Covington
DESCRIPTION:Member Networking Opportunity
X-ALT-DESC;FMTTYPE=text/html:Member Networking Opportunity
LOCATION:United Bank of Covington 7200 Highway 278 Covington\, GA 30014
UID:e.1627.57
SEQUENCE:3
DTSTAMP:20260419T141018Z
URL:https://business.newtonchamber.com/events/details/coffee-call-at-united-bank-of-covington-12-04-2013-57
END:VEVENT

END:VCALENDAR
