BEGIN:VCALENDAR
VERSION:2.0
PRODID:-//ChamberMaster//Event Calendar 2.0//EN
METHOD:PUBLISH
X-PUBLISHED-TTL:P3D
REFRESH-INTERVAL:P3D
CALSCALE:GREGORIAN
BEGIN:VEVENT
DTSTART:20131106T133000Z
DTEND:20131106T143000Z
X-MICROSOFT-CDO-ALLDAYEVENT:FALSE
SUMMARY:Coffee Call at Merryvale Assisted Living
DESCRIPTION:Member Networking Opportunity
X-ALT-DESC;FMTTYPE=text/html:Member Networking Opportunity
LOCATION:Merryvale Assisted Living 11980 Highway 142 N Oxford\, GA 30054
UID:e.1627.55
SEQUENCE:3
DTSTAMP:20260419T164612Z
URL:https://business.newtonchamber.com/events/details/coffee-call-at-merryvale-assisted-living-11-06-2013-55
END:VEVENT

END:VCALENDAR
