BEGIN:VCALENDAR
VERSION:2.0
PRODID:-//ChamberMaster//Event Calendar 2.0//EN
METHOD:PUBLISH
X-PUBLISHED-TTL:P3D
REFRESH-INTERVAL:P3D
CALSCALE:GREGORIAN
BEGIN:VEVENT
DTSTART:20161008T130000Z
DTEND:20161008T140000Z
X-MICROSOFT-CDO-ALLDAYEVENT:FALSE
SUMMARY:Coffee Break W/ Dr. Andrea: Mastermind Sneak Peek
DESCRIPTION:Did you miss the last Sneak Peek? Here's a second chance to find out how a Mastermind Group Study can benefit you.\n\nJoin me for a cup of coffee and get a sneak peek into my Mastermind Group Study on Personal Growth. Learn how being among a group of focused\, like-minded individuals can help you raise your performance level.\n\nAttend the Sneak Peek and get 10% off your registration!  Bring a friend and win a chance to get your registration FREE!\n\nMastermind Group Study is one of the several services offered by Dr. Andrea Bowens-Jones\, Certified John Maxwell Coach\, Speaker\, & Trainer.  For a complete list of services visit www.idgvision.com.
X-ALT-DESC;FMTTYPE=text/html:<p>Did&nbsp\;you miss the last Sneak Peek? Here&#39\;s a second chance to find out how a Mastermind Group Study can benefit you.</p>\n\n<p>Join me for a cup of coffee and get a sneak peek into my Mastermind Group Study on Personal Growth. Learn how being among a&nbsp\;group of focused\, like-minded individuals can help you raise your performance level.</p>\n\n<p>Attend the Sneak Peek and get 10% off your registration!&nbsp\; Bring a friend and win a chance to get your registration FREE!</p>\n\n<p>Mastermind Group Study is one of the several services offered by Dr. Andrea Bowens-Jones\, Certified John Maxwell Coach\, Speaker\, &amp\; Trainer. &nbsp\;For a complete list of services visit www.idgvision.com.</p>\n
LOCATION:1122 Monticello St\,Suite 12 Covington\, GA 30014
UID:e.1627.3079
SEQUENCE:3
DTSTAMP:20260421T223353Z
URL:https://business.newtonchamber.com/events/details/coffee-break-w-dr-andrea-mastermind-sneak-peek-3079
END:VEVENT

END:VCALENDAR
