BEGIN:VCALENDAR
VERSION:2.0
PRODID:-//ChamberMaster//Event Calendar 2.0//EN
METHOD:PUBLISH
X-PUBLISHED-TTL:P3D
REFRESH-INTERVAL:P3D
CALSCALE:GREGORIAN
BEGIN:VEVENT
DTSTART:20170112T133000Z
DTEND:20170112T143000Z
X-MICROSOFT-CDO-ALLDAYEVENT:FALSE
SUMMARY:Coffee Break w/ Dr. Andrea: Mastermind Sneak Peek 1
DESCRIPTION:Join me for a cup of coffee and get a sneak peek into my Mastermind Group Study on Personal Growth. Learn how being among a group of focused\, like-minded individuals can help you raise your performance level for 2017.\n\nAttend the Sneak Peek and get 10% ($40) off your registration! Your registration would only be $360 for the 8-wk session. Bring a friend and win a chance to get your registration for 50% off!\n\nMastermind Group Study is one of the several services offered by Dr. Andrea Bowens-Jones\, Certified John Maxwell Coach\, Speaker\, & Trainer.  For a complete list of services visit www.idgvision.com.
X-ALT-DESC;FMTTYPE=text/html:<p>Join me for a cup of coffee and get a sneak peek into my Mastermind Group Study on Personal Growth. Learn how being among a&nbsp\;group of focused\, like-minded individuals can help you raise your performance level for 2017.</p>\n\n<p>Attend the Sneak Peek and get 10% ($40) off your registration! Your registration would only be $360 for the 8-wk session.&nbsp\;Bring a friend and win a chance to get your registration for 50% off!</p>\n\n<p>Mastermind Group Study is one of the several services offered by Dr. Andrea Bowens-Jones\, Certified John Maxwell Coach\, Speaker\, &amp\; Trainer. &nbsp\;For a complete list of services visit www.idgvision.com.</p>\n
LOCATION:1122 Monticello St\, Suite 12 (The JW Group) (The entrance is next to Bread and Butter Bakery. Our office is at the top of the stairs to the left.)
UID:e.1627.3710
SEQUENCE:3
DTSTAMP:20260422T025901Z
URL:https://business.newtonchamber.com/events/details/coffee-break-w-dr-andrea-mastermind-sneak-peek-1-3710
END:VEVENT

END:VCALENDAR
