BEGIN:VCALENDAR
VERSION:2.0
PRODID:-//ChamberMaster//Event Calendar 2.0//EN
METHOD:PUBLISH
X-PUBLISHED-TTL:P3D
REFRESH-INTERVAL:P3D
CALSCALE:GREGORIAN
BEGIN:VEVENT
DTSTART:20161216T210000Z
DTEND:20161219T010000Z
X-MICROSOFT-CDO-ALLDAYEVENT:FALSE
SUMMARY:Christmas on the Farm
DESCRIPTION:Come start a new holiday tradition! Mitcham Farm will be open for a special Christmas event December 16-18. Warm up with a hot cup of cider or cocoa and enjoy the festivities! Our farm has been transformed into a winter wonderland featuring the following highlights:\n\n\n\n  1000's of Christmas lights and decorations to enjoy\n\n  Visit with Santa (available for photos the whole weekend)\n\n  Christmas music\n\n  Food (hot dogs\, chips\, pizza\, and candy)\n\n  Drinks (hot chocolate\, hot apple cider\, and more)\n\n  Hayrides\n\n  Pony rides\n\n  Activities (giant jump pad\, pedal karts\, mechanical bull ride\, cow train\, corn cannon\, slides\, and more)\n\n  Farm Stand featuring great Christmas gifts (homemade jellies\, jellies\, and more)\n\n  and more!\n\n\n\nHOURS:\n\nFriday 4-9pm\n\nSaturday 3-9pm \n\nSunday 4-8pm\n\n\n\nCOST: \n\nFREE to visit \n\n$5/pony ride\n\n$3/mechanical bull ride\n\n$8/person for activities wrist band (required for all other activities including hayrides\, play area\, and other rides)\n\n\n\nFood\, drink\, and items for purchase at the farm stand are additional.\n\n\n\nWe're a family owned and operated farm offering "Real Farm\, Real Food and Real Fun." The farm is located less than 5 miles from Interstate 20. \n\n\n\nLearn more about the farm: mitchamfarm.com
X-ALT-DESC;FMTTYPE=text/html:<span style="color:rgb(75\, 79\, 86)\; font-family:helvetica neue\,helvetica\,arial\,sans-serif\; font-size:14px">Come start a new holiday tradition! Mitcham Farm will be open for a special Christmas event December 16-18. Warm up with a hot cup of cider or cocoa and enjoy the festivities! Our farm has been transformed into a winter wonderland featuring the following highlights:</span><br />\n<br />\n<span style="color:rgb(75\, 79\, 86)\; font-family:helvetica neue\,helvetica\,arial\,sans-serif\; font-size:14px">&bull\; 1000&rsquo\;s of Christmas lights and decorations to enjoy</span><br />\n<span style="color:rgb(75\, 79\, 86)\; font-family:helvetica neue\,helvetica\,arial\,sans-serif\; font-size:14px">&bull\; Visit with Santa <em>(available for photos the whole weekend)</em></span><br />\n<span style="color:rgb(75\, 79\, 86)\; font-family:helvetica neue\,helvetica\,arial\,sans-serif\; font-size:14px">&bull\; Christmas music</span><br />\n<span style="color:rgb(75\, 79\, 86)\; font-family:helvetica neue\,helvetica\,arial\,sans-serif\; font-size:14px">&bull\; Food <em>(hot dogs\, chips\, pizza\, and candy)</em></span><br />\n<span style="color:rgb(75\, 79\, 86)\; font-family:helvetica neue\,helvetica\,arial\,sans-serif\; font-size:14px">&bull\; Drinks <em>(hot chocolate\, hot apple cider\, and more)</em></span><br />\n<span style="color:rgb(75\, 79\, 86)\; font-family:helvetica neue\,helvetica\,arial\,sans-serif\; font-size:14px">&bull\; Hayrides</span><br />\n<span style="color:rgb(75\, 79\, 86)\; font-family:helvetica neue\,helvetica\,arial\,sans-serif\; font-size:14px">&bull\; Pony rides</span><br />\n<span style="color:rgb(75\, 79\, 86)\; font-family:helvetica neue\,helvetica\,arial\,sans-serif\; font-size:14px">&bull\; Activities <em>(giant jump pad\, pedal karts\, mechanical bull ride\, cow train\, corn cannon\, slides\, and more)</em></span><br />\n<span style="color:rgb(75\, 79\, 86)\; font-family:helvetica neue\,helvetica\,arial\,sans-serif\; font-size:14px">&bull\; Farm Stand featuring great Christmas gifts <em>(homemade jellies\, jellies\, and more)</em></span><br />\n<span style="color:rgb(75\, 79\, 86)\; font-family:helvetica neue\,helvetica\,arial\,sans-serif\; font-size:14px">&bull\; and more</span><span style="color:rgb(75\, 79\, 86)\; font-family:helvetica neue\,helvetica\,arial\,sans-serif\; font-size:14px">!<br />\n<br />\n<strong>HOURS:</strong><br />\nFriday 4-9pm<br />\nSaturday 3-9pm&nbsp\;<br />\nSunday 4-8pm<br />\n<br />\n<strong>COST:&nbsp\;</strong><br />\nFREE to visit&nbsp\;<br />\n$5/pony ride<br />\n$3/mechanical bull ride<br />\n$8/person for activities wrist band <em>(required for all other activities including hayrides\, play area\, and other rides)</em><br />\n<br />\nFood\, drink\, and items for purchase at the farm stand are additional.<br />\n<br />\nWe&rsquo\;re a family owned and operated farm offering &ldquo\;Real Farm\, Real Food and Real Fun.&rdquo\; The farm is located less than 5 miles from Interstate 20.&nbsp\;<br />\n<br />\nLearn more about the farm:&nbsp\;<a href="http://l.facebook.com/l.php?u=http%3A%2F%2Fmitchamfarm.com%2F&amp\;h=IAQHQIw_Y&amp\;enc=AZNzQCFE3rPpQKjuCf9rUDk5OKQEP02uhi2ohWwjSRrzBzU9DxwzxSWwJgIHKEeYfpQ&amp\;s=1" rel="nofollow nofollow" style="color: rgb(54\, 88\, 153)\; cursor: pointer\; text-decoration: none\; font-family: inherit\;" target="_blank">mitchamfarm.com</a></span>
LOCATION:Mitcham Farm ?797 W Macedonia Church Rd Oxford\, Georgia 30054
UID:e.1627.3712
SEQUENCE:3
DTSTAMP:20260422T011532Z
URL:https://business.newtonchamber.com/events/details/christmas-on-the-farm-3712
END:VEVENT

END:VCALENDAR
