BEGIN:VCALENDAR
VERSION:2.0
PRODID:-//ChamberMaster//Event Calendar 2.0//EN
METHOD:PUBLISH
X-PUBLISHED-TTL:P3D
REFRESH-INTERVAL:P3D
CALSCALE:GREGORIAN
BEGIN:VEVENT
DTSTART:20161210T213000Z
DTEND:20161211T010000Z
X-MICROSOFT-CDO-ALLDAYEVENT:FALSE
SUMMARY:Christmas in the Village
DESCRIPTION:Come and be part of the Christmas in the Village celebration. Starting with a Holiday Market at 4:30pm\, bring some mad money\, Kenny has stocked up on holiday merch. A one of a kind Christmas parade where everyone is welcome to join in\, kicks off at 6:00pm. The parade will be MC'd by Porterdale's very own Quasi Discoman. Lighting of the Porterdale Christmas Tree and Star\, visits with Santa at the conclusion of the parade. Porterdale's house band Leighlynne Shine\, play their favorite Christmas tunes at 7pm. Complimentary Smore's and Hot Chocolate  complete the evening. Wear your Christmas Sweater with pride and enjoy a generous dose of fun and and holiday merrriment! It is Festivus meets the Griswolds in Porterdale.
X-ALT-DESC;FMTTYPE=text/html:Come and be part of the Christmas in the Village celebration. Starting with a Holiday Market at 4:30pm\, bring some mad money\, Kenny has stocked up on holiday merch. A one of a kind Christmas parade where everyone is welcome to join in\, kicks off at 6:00pm. The parade will be MC&#39\;d by Porterdale&#39\;s very own Quasi Discoman. Lighting of the Porterdale Christmas Tree and Star\, visits with Santa at the conclusion of the parade. Porterdale&#39\;s house band Leighlynne Shine\, play their favorite Christmas tunes at 7pm. Complimentary Smore&#39\;s and Hot Chocolate &nbsp\;complete the evening. Wear your Christmas Sweater with pride and enjoy a generous dose of fun and and holiday merrriment! It is Festivus meets the Griswolds in Porterdale.
LOCATION:2400 Main Street\, Porterdale 30070
UID:e.1627.3713
SEQUENCE:3
DTSTAMP:20260422T015213Z
URL:https://business.newtonchamber.com/events/details/christmas-in-the-village-3713
END:VEVENT

END:VCALENDAR
