BEGIN:VCALENDAR
VERSION:2.0
PRODID:-//ChamberMaster//Event Calendar 2.0//EN
METHOD:PUBLISH
X-PUBLISHED-TTL:P3D
REFRESH-INTERVAL:P3D
CALSCALE:GREGORIAN
BEGIN:VEVENT
DTSTART:20181208T100000Z
DTEND:20181209T020000Z
X-MICROSOFT-CDO-ALLDAYEVENT:FALSE
SUMMARY:Christmas in the Village
DESCRIPTION:Porterdale's annual hometime Christmas celebration. Parade kicks off at 6 PM. S'\,mores and Hot Chocolate to celelbrate the season. Recognition of parade Grands Marshalls\, lghting of the Porterdale Christmas Tree and Christmas Star\, Visits with Santa and the screening of Elf follow the parade.
X-ALT-DESC;FMTTYPE=text/html:Porterdale&#39\;s annual hometime Christmas celebration. Parade kicks off at 6 PM. S&#39\;\,mores and Hot Chocolate to celelbrate the season. Recognition of parade Grands Marshalls\, lghting of the Porterdale Christmas Tree and Christmas Star\, Visits with Santa and the screening of Elf follow the parade.
LOCATION:Downtown Porterdale
UID:e.1627.6861
SEQUENCE:3
DTSTAMP:20260422T190526Z
URL:https://business.newtonchamber.com/events/details/christmas-in-the-village-12-08-2018-6861
END:VEVENT

END:VCALENDAR
