BEGIN:VCALENDAR
VERSION:2.0
PRODID:-//ChamberMaster//Event Calendar 2.0//EN
METHOD:PUBLISH
X-PUBLISHED-TTL:P3D
REFRESH-INTERVAL:P3D
CALSCALE:GREGORIAN
BEGIN:VEVENT
DTSTART:20181215T170000Z
DTEND:20181216T020000Z
X-MICROSOFT-CDO-ALLDAYEVENT:FALSE
SUMMARY:Christmas at Gaither
DESCRIPTION:Join us for Christmas at Gaither's \n\n270 Davis Ford Rd.\, Covington\n\nFFA Class smoking Boston Butts. Yellow Rose Farm Soap with all Natural Body Products. Lakeside Hobby with beautiful wooden pieces. Hannah Thomas performing from 6-8\, Sleigh ridges with Santa from 6-8. Come early and tour the grounds\, take family Christmas photos\, at dusk enjoy the beautiful lights. \n\n$10 per car
X-ALT-DESC;FMTTYPE=text/html:<strong>&nbsp\;Join us for Christmas at Gaither&#39\;s&nbsp\;<br />\n270 Davis Ford Rd.\, Covington<br />\nFFA Class smoking Boston Butts. Yellow Rose Farm Soap with all Natural Body Products. Lakeside Hobby with beautiful wooden pieces. Hannah Thomas performing from 6-8\, Sleigh ridges with Santa from 6-8. Come early and tour the grounds\, take family&nbsp\;Christmas&nbsp\;photos\, at dusk enjoy the beautiful lights.&nbsp\;<br />\n$10 per car</strong>
LOCATION:
UID:e.1627.6877
SEQUENCE:3
DTSTAMP:20260422T172513Z
URL:https://business.newtonchamber.com/events/details/christmas-at-gaither-6877
END:VEVENT

END:VCALENDAR
