BEGIN:VCALENDAR
VERSION:2.0
PRODID:-//ChamberMaster//Event Calendar 2.0//EN
METHOD:PUBLISH
X-PUBLISHED-TTL:P3D
REFRESH-INTERVAL:P3D
CALSCALE:GREGORIAN
BEGIN:VEVENT
DTSTART:20160917T000000Z
DTEND:20160917T020000Z
X-MICROSOFT-CDO-ALLDAYEVENT:FALSE
SUMMARY:Chris\, Jon & Scott at Irish Bred Pub
DESCRIPTION:Locals Chris\, Jon & Scott will make their debut upstairs in the Listening Room!
X-ALT-DESC;FMTTYPE=text/html:Locals Chris\, Jon &amp\; Scott will make their debut upstairs in the Listening Room!
LOCATION:Upstairs in the Listening Room at the Irish Bred Pub & Restaurant 1115 Church Street On the Square in Downtown Covington\, Georgia
UID:e.1627.3065
SEQUENCE:3
DTSTAMP:20260421T212650Z
URL:https://business.newtonchamber.com/events/details/chris-jon-scott-at-irish-bred-pub-3065
END:VEVENT

END:VCALENDAR
