BEGIN:VCALENDAR
VERSION:2.0
PRODID:-//ChamberMaster//Event Calendar 2.0//EN
METHOD:PUBLISH
X-PUBLISHED-TTL:P3D
REFRESH-INTERVAL:P3D
CALSCALE:GREGORIAN
BEGIN:VEVENT
DTSTART;VALUE=DATE:20131026
DTEND;VALUE=DATE:20131027
TRANSP:TRANSPARENT
X-MICROSOFT-CDO-ALLDAYEVENT:TRUE
SUMMARY:Change The World\, Impact The Community
DESCRIPTION:Come out and make an impact on your community.
X-ALT-DESC;FMTTYPE=text/html:Come out and make an impact on your community.
LOCATION:
UID:e.1627.80
SEQUENCE:3
DTSTAMP:20260419T200538Z
URL:https://business.newtonchamber.com/events/details/change-the-world-impact-the-community-10-26-2013-80
END:VEVENT

END:VCALENDAR
