BEGIN:VCALENDAR
VERSION:2.0
PRODID:-//ChamberMaster//Event Calendar 2.0//EN
METHOD:PUBLISH
X-PUBLISHED-TTL:P3D
REFRESH-INTERVAL:P3D
CALSCALE:GREGORIAN
BEGIN:VEVENT
DTSTART:20180412T143000Z
DTEND:20180412T220000Z
X-MICROSOFT-CDO-ALLDAYEVENT:FALSE
SUMMARY:CHAMBER GOLF TOURNAMENT
DESCRIPTION:Join us for our Annual Golf Tournament hosted at The Oaks Golf Course.
X-ALT-DESC;FMTTYPE=text/html:Join us for our Annual Golf Tournament hosted at The Oaks Golf Course.&nbsp\;
LOCATION:The Oaks Course 11240 Brown Bridge Road Covington\, GA 30014
UID:e.1627.4352
SEQUENCE:3
DTSTAMP:20260423T015630Z
URL:https://business.newtonchamber.com/events/details/chamber-golf-tournament-4352
END:VEVENT

END:VCALENDAR
