BEGIN:VCALENDAR
VERSION:2.0
PRODID:-//ChamberMaster//Event Calendar 2.0//EN
METHOD:PUBLISH
X-PUBLISHED-TTL:P3D
REFRESH-INTERVAL:P3D
CALSCALE:GREGORIAN
BEGIN:VEVENT
DTSTART:20160119T233000Z
DTEND:20160120T020000Z
X-MICROSOFT-CDO-ALLDAYEVENT:FALSE
SUMMARY:Chamber Annual Dinner
DESCRIPTION:Chamber Annual Dinner
X-ALT-DESC;FMTTYPE=text/html:Chamber Annual Dinner&nbsp\;&nbsp\;&nbsp\;
LOCATION:Charlie Elliot Wildlife Center 543 Elliot Trail Mansfield\, GA 30055
UID:e.1627.1681
SEQUENCE:3
DTSTAMP:20260421T103629Z
URL:https://business.newtonchamber.com/events/details/chamber-annual-dinner-01-19-2016-1681
END:VEVENT

END:VCALENDAR
