BEGIN:VCALENDAR
VERSION:2.0
PRODID:-//ChamberMaster//Event Calendar 2.0//EN
METHOD:PUBLISH
X-PUBLISHED-TTL:P3D
REFRESH-INTERVAL:P3D
CALSCALE:GREGORIAN
BEGIN:VEVENT
DTSTART:20190430T160000Z
DTEND:20190430T170000Z
X-MICROSOFT-CDO-ALLDAYEVENT:FALSE
SUMMARY:CHAMBER AMBASSADORS LUNCH MEETING
DESCRIPTION:Connecting the Chamber to the Community\n\n              Ambassador Lunch is the last Tuesday of every month at a different member restaurant. \nOur Ambassadors are a dynamic group of business people and professionals\, & are one of the greatest assets of our Chamber.  They truly are the face of the Chamber.  These dedicated members are fully committed to the advancement of community based businesses.  Ambassadors will participate in Chamber events\, ribbon cuttings\, & help orchestrate membership campaigns.   They will also help welcome new members to the Chamber.  Why would you want to be a Covington/Newton Chamber Ambassador??\n\n                    EXPOSURE\, EXPOSURE\, EXPOSURE
X-ALT-DESC;FMTTYPE=text/html:<div style="text-align: center\;"><span style="font-size:14px\;"><strong><em>Connecting the Chamber to the Community</em></strong></span></div>\n\n<div style="text-align: center\;"><span style="font-size:14px\;">&nbsp\; &nbsp\; &nbsp\; &nbsp\; &nbsp\; &nbsp\; &nbsp\; </span><em style="text-align: center\; font-size: 14px\;">Ambassador Lunch is the last Tuesday of every month at a different member restaurant.&nbsp\;</em></div>\n<span style="font-size:14px\;">Our Ambassadors are a dynamic group of business people and professionals\, &amp\; are one of the greatest assets of our Chamber.&nbsp\; They truly are the face of the Chamber.&nbsp\; These dedicated members are fully committed to the advancement of community based businesses.&nbsp\; Ambassadors will participate in Chamber events\, ribbon cuttings\, &amp\; help orchestrate membership campaigns.&nbsp\;&nbsp\; They will also help welcome new members to the Chamber.&nbsp\; Why would you want to be a Covington/Newton Chamber Ambassador??<br />\n&nbsp\; &nbsp\; &nbsp\; &nbsp\; &nbsp\; &nbsp\; &nbsp\; &nbsp\; &nbsp\; &nbsp\; <strong>EXPOSURE\, EXPOSURE\, EXPOSURE</strong></span>
LOCATION:Putters @ The Oaks Course 11240 Brown Bridge Road Covington\, GA 30016 https://www.golfoaks.com/food-beverage/putters-restaurant
UID:e.1627.7212
SEQUENCE:3
DTSTAMP:20260422T112121Z
URL:https://business.newtonchamber.com/events/details/chamber-ambassadors-lunch-meeting-7212
END:VEVENT

END:VCALENDAR
