BEGIN:VCALENDAR
VERSION:2.0
PRODID:-//ChamberMaster//Event Calendar 2.0//EN
METHOD:PUBLISH
X-PUBLISHED-TTL:P3D
REFRESH-INTERVAL:P3D
CALSCALE:GREGORIAN
BEGIN:VEVENT
DTSTART:20190226T170000Z
DTEND:20190226T180000Z
X-MICROSOFT-CDO-ALLDAYEVENT:FALSE
SUMMARY:CHAMBER AMBASSADORS LUNCH MEETING
DESCRIPTION:Chamber Ambassador monthly lunch meeting.  Come & make more connections & get more visability for your business.
X-ALT-DESC;FMTTYPE=text/html:Chamber Ambassador monthly lunch meeting.&nbsp\; Come &amp\; make more connections &amp\; get more visability for your business.&nbsp\; &nbsp\;&nbsp\;
LOCATION:We will meet this month at Bench Warmer's Sports Grill located at 10205 Access Road\, Suite A Covington https://business.newtonchamber.com/list/member/bench-warmers-sports-grill-4375
UID:e.1627.6908
SEQUENCE:3
DTSTAMP:20260422T140632Z
URL:https://business.newtonchamber.com/events/details/chamber-ambassadors-lunch-meeting-6908
END:VEVENT

END:VCALENDAR
