BEGIN:VCALENDAR
VERSION:2.0
PRODID:-//ChamberMaster//Event Calendar 2.0//EN
METHOD:PUBLISH
X-PUBLISHED-TTL:P3D
REFRESH-INTERVAL:P3D
CALSCALE:GREGORIAN
BEGIN:VEVENT
DTSTART:20180924T160000Z
DTEND:20180924T170000Z
X-MICROSOFT-CDO-ALLDAYEVENT:FALSE
SUMMARY:CHAMBER AMBASSADORS LUNCH MEETING
DESCRIPTION:Chamber Ambassador monthly lunch meeting.  Come & make more connections & get more visability for your business.
X-ALT-DESC;FMTTYPE=text/html:Chamber Ambassador monthly lunch meeting.&nbsp\; Come &amp\; make more connections &amp\; get more visability for your business.&nbsp\; &nbsp\;&nbsp\;
LOCATION:Johnny's Pizza 10176 Carlin Dr\, Covington\, GA 30014 **Intersection of Hwy 35 & Bypass Rd**
UID:e.1627.6821
SEQUENCE:3
DTSTAMP:20260422T222834Z
URL:https://business.newtonchamber.com/events/details/chamber-ambassadors-lunch-meeting-6821
END:VEVENT

END:VCALENDAR
