BEGIN:VCALENDAR
VERSION:2.0
PRODID:-//ChamberMaster//Event Calendar 2.0//EN
METHOD:PUBLISH
X-PUBLISHED-TTL:P3D
REFRESH-INTERVAL:P3D
CALSCALE:GREGORIAN
BEGIN:VEVENT
DTSTART:20161129T170000Z
DTEND:20161129T180000Z
X-MICROSOFT-CDO-ALLDAYEVENT:FALSE
SUMMARY:Chamber Ambassadors Lunch
DESCRIPTION:Monthly Chamber Ambassador Meeting--Be a part of a great group that reaches out to new members and renewing members each month.
X-ALT-DESC;FMTTYPE=text/html:Monthly Chamber Ambassador Meeting--Be a part of a great group that reaches out to new members and renewing members each month.
LOCATION:Covington
UID:e.1627.2659
SEQUENCE:3
DTSTAMP:20260422T000119Z
URL:https://business.newtonchamber.com/events/details/chamber-ambassadors-lunch-11-29-2016-2659
END:VEVENT

END:VCALENDAR
