BEGIN:VCALENDAR
VERSION:2.0
PRODID:-//ChamberMaster//Event Calendar 2.0//EN
METHOD:PUBLISH
X-PUBLISHED-TTL:P3D
REFRESH-INTERVAL:P3D
CALSCALE:GREGORIAN
BEGIN:VEVENT
DTSTART:20170315T160000Z
DTEND:20170315T170000Z
X-MICROSOFT-CDO-ALLDAYEVENT:FALSE
SUMMARY:Chamber 101
DESCRIPTION:Join us as we take you thru the true value of you Chamber membership and how to best utilize it!
X-ALT-DESC;FMTTYPE=text/html:Join us as we take you thru the true value of you Chamber membership and how to best utilize it!
LOCATION:The Center 2104 Washington Street Covington\, GA 30014
UID:e.1627.3781
SEQUENCE:3
DTSTAMP:20260422T061601Z
URL:https://business.newtonchamber.com/events/details/chamber-101-3781
END:VEVENT

END:VCALENDAR
