BEGIN:VCALENDAR
VERSION:2.0
PRODID:-//ChamberMaster//Event Calendar 2.0//EN
METHOD:PUBLISH
X-PUBLISHED-TTL:P3D
REFRESH-INTERVAL:P3D
CALSCALE:GREGORIAN
BEGIN:VEVENT
DTSTART:20190323T220000Z
DTEND:20190324T010000Z
X-MICROSOFT-CDO-ALLDAYEVENT:FALSE
SUMMARY:Certain Strangers LIVE @ Newborn's Historic Old Schoolhouse
DESCRIPTION:Doors open at 6:00 p.m.\, show starts at 6:30 p.m.\n\nAdmission is $5.00 which includes 3 raffle tickets for prizes.\n\nLive original music and covers. Country\, Folk\, Americana. \n\n"Sister's Family Restaurant" out of Loganville Georgia will have\n\nthe kitchen open with dinner plates\, desserts\, coffee\, and soft drinks for purchase.
X-ALT-DESC;FMTTYPE=text/html:<strong><span style="color:rgb(29\, 33\, 41)\; font-family:helvetica\,arial\,sans-serif\; font-size:14px">Doors open at 6:00 p.m.\, show starts at 6:30 p.m.</span><br />\n<span style="color:rgb(29\, 33\, 41)\; font-family:helvetica\,arial\,sans-serif\; font-size:14px">Admission is $5.00 which includes 3 raffle tickets for prizes.</span><br />\n<span style="color:rgb(29\, 33\, 41)\; font-family:helvetica\,arial\,sans-serif\; font-size:14px">Live original music and covers. Country\, Folk\, Americana.&nbsp\;</span><br />\n<span style="color:rgb(29\, 33\, 41)\; font-family:helvetica\,arial\,sans-serif\; font-size:14px">&quot\;Sister&#39\;s Family Restaurant&quot\; out of Loganville Georgia will have</span><br />\n<span style="color:rgb(29\, 33\, 41)\; font-family:helvetica\,arial\,sans-serif\; font-size:14px">the kitchen open with dinner plates\, desserts\, coffee\, and soft drinks for purchase.</span></strong>
LOCATION:4326 Hwy 142\, Newborn\, Georgia 30056
UID:e.1627.6930
SEQUENCE:3
DTSTAMP:20260422T123021Z
URL:https://business.newtonchamber.com/events/details/certain-strangers-live-newborn-s-historic-old-schoolhouse-6930
END:VEVENT

END:VCALENDAR
