BEGIN:VCALENDAR
VERSION:2.0
PRODID:-//ChamberMaster//Event Calendar 2.0//EN
METHOD:PUBLISH
X-PUBLISHED-TTL:P3D
REFRESH-INTERVAL:P3D
CALSCALE:GREGORIAN
BEGIN:VEVENT
DTSTART:20161006T220000Z
DTEND:20161006T233000Z
X-MICROSOFT-CDO-ALLDAYEVENT:FALSE
SUMMARY:Caring for a Person with Alzheimer's or Dementia
DESCRIPTION:Understanding communication skills\, behavior management & therapeutic interventions are so important in caring for a person with dementia.  Join us for open discussion with Janet Dawkins with Aging Options.  Light Dinner Served.  Kindly RSVP.
X-ALT-DESC;FMTTYPE=text/html:Understanding communication skills\, behavior management &amp\; therapeutic interventions are so important in caring for a person with dementia.&nbsp\; Join us for open discussion with Janet Dawkins with Aging Options.&nbsp\; Light Dinner Served.&nbsp\; Kindly RSVP.
LOCATION:Benton House of Covington Senior Living Community 7155 Dearing Road Covington\, GA 30014
UID:e.1627.3071
SEQUENCE:3
DTSTAMP:20260421T223720Z
URL:https://business.newtonchamber.com/events/details/caring-for-a-person-with-alzheimer-s-or-dementia-3071
END:VEVENT

END:VCALENDAR
