BEGIN:VCALENDAR
VERSION:2.0
PRODID:-//ChamberMaster//Event Calendar 2.0//EN
METHOD:PUBLISH
X-PUBLISHED-TTL:P3D
REFRESH-INTERVAL:P3D
CALSCALE:GREGORIAN
BEGIN:VEVENT
DTSTART:20160430T130000Z
DTEND:20160501T180000Z
X-MICROSOFT-CDO-ALLDAYEVENT:FALSE
SUMMARY:Camp Journey
DESCRIPTION:Abbey Hospice Foundation is proud to present Camp Journey: a free camping experience where grieving children find healing! Camp Journey is an overnight camping experience designed to help children express and understand their grief. Camp Journey is for any child ages 7-17 that has lost someone close to them.
X-ALT-DESC;FMTTYPE=text/html:Abbey Hospice Foundation is proud to present Camp Journey: a free camping experience where grieving children find healing! Camp Journey is an overnight camping experience designed to help children express and understand their grief. Camp Journey is for any child ages 7-17 that has lost someone close to them.
LOCATION:Camp Journey is partnered with and located at Camp Twin Lakes in Rutledge\, GA. It?s a beautiful facility with plenty of activities designed for children with various needs to help them integrate with others and share their experience!
UID:e.1627.1704
SEQUENCE:3
DTSTAMP:20260421T134028Z
URL:https://business.newtonchamber.com/events/details/camp-journey-04-30-2016-1704
END:VEVENT

END:VCALENDAR
