BEGIN:VCALENDAR
VERSION:2.0
PRODID:-//ChamberMaster//Event Calendar 2.0//EN
METHOD:PUBLISH
X-PUBLISHED-TTL:P3D
REFRESH-INTERVAL:P3D
CALSCALE:GREGORIAN
BEGIN:VEVENT
DTSTART:20150630T123000Z
DTEND:20150630T133000Z
X-MICROSOFT-CDO-ALLDAYEVENT:FALSE
SUMMARY:Business 2 Business Networking
DESCRIPTION:Morning Meeting Group for Chamber Members. Mets the last Tuesday of each month.
X-ALT-DESC;FMTTYPE=text/html:Morning Meeting Group for Chamber Members. Mets the last Tuesday of each month.
LOCATION:Square Perk Caf - 1105 Church St Se\, Covington GA 33014
UID:e.1627.544
SEQUENCE:3
DTSTAMP:20260420T081954Z
URL:https://business.newtonchamber.com/events/details/business-2-business-networking-06-30-2015-544
END:VEVENT

END:VCALENDAR
