BEGIN:VCALENDAR
VERSION:2.0
PRODID:-//ChamberMaster//Event Calendar 2.0//EN
METHOD:PUBLISH
X-PUBLISHED-TTL:P3D
REFRESH-INTERVAL:P3D
CALSCALE:GREGORIAN
BEGIN:VEVENT
DTSTART:20170829T210000Z
DTEND:20170829T230000Z
X-MICROSOFT-CDO-ALLDAYEVENT:FALSE
SUMMARY:Burgers & Bingo Fundraiser
DESCRIPTION:Help raise funds for the Alzhiemer's Association by enjoying tasty burgers and have fun playing bingo. Dinner will be served between 5 and 6 PM and bingo at 6:60 PM. $10 donation for a night of bingo fun!
X-ALT-DESC;FMTTYPE=text/html:Help raise funds for the Alzhiemer&#39\;s Association by enjoying tasty burgers and have fun playing bingo. Dinner will be served between 5 and 6 PM and bingo at 6:60 PM. $10 donation for a night of bingo fun!
LOCATION:Benton House of Covington 7155 Dearing Road Covington\, GA 30014
UID:e.1627.3930
SEQUENCE:3
DTSTAMP:20260422T131540Z
URL:https://business.newtonchamber.com/events/details/burgers-bingo-fundraiser-3930
END:VEVENT

END:VCALENDAR
