BEGIN:VCALENDAR
VERSION:2.0
PRODID:-//ChamberMaster//Event Calendar 2.0//EN
METHOD:PUBLISH
X-PUBLISHED-TTL:P3D
REFRESH-INTERVAL:P3D
CALSCALE:GREGORIAN
BEGIN:VEVENT
DTSTART:20241004T130000Z
DTEND:20241004T140000Z
X-MICROSOFT-CDO-ALLDAYEVENT:FALSE
SUMMARY:Building on the Rock
DESCRIPTION:Bible Study for special needs adults
X-ALT-DESC;FMTTYPE=text/html:Bible Study for special needs adults
LOCATION:Abiding Grace Lutheran Church 5500 Hwy 212 Covington\, GA 30016
UID:e.1627.12598
SEQUENCE:3
DTSTAMP:20260419T154618Z
URL:https://business.newtonchamber.com/events/details/building-on-the-rock-10-04-2024-12598
END:VEVENT

END:VCALENDAR
